BEGIN:VCALENDAR
VERSION:2.0
PRODID:-//Thunder Bay Masjid - ECPv6.13.0//NONSGML v1.0//EN
CALSCALE:GREGORIAN
METHOD:PUBLISH
X-ORIGINAL-URL:https://tbmra.org
X-WR-CALDESC:Events for Thunder Bay Masjid
REFRESH-INTERVAL;VALUE=DURATION:PT1H
X-Robots-Tag:noindex
X-PUBLISHED-TTL:PT1H
BEGIN:VTIMEZONE
TZID:America/Thunder_Bay
BEGIN:DAYLIGHT
TZOFFSETFROM:-0500
TZOFFSETTO:-0400
TZNAME:EDT
DTSTART:20140309T070000
END:DAYLIGHT
BEGIN:STANDARD
TZOFFSETFROM:-0400
TZOFFSETTO:-0500
TZNAME:EST
DTSTART:20141102T060000
END:STANDARD
BEGIN:DAYLIGHT
TZOFFSETFROM:-0500
TZOFFSETTO:-0400
TZNAME:EDT
DTSTART:20150308T070000
END:DAYLIGHT
BEGIN:STANDARD
TZOFFSETFROM:-0400
TZOFFSETTO:-0500
TZNAME:EST
DTSTART:20151101T060000
END:STANDARD
BEGIN:DAYLIGHT
TZOFFSETFROM:-0500
TZOFFSETTO:-0400
TZNAME:EDT
DTSTART:20160313T070000
END:DAYLIGHT
BEGIN:STANDARD
TZOFFSETFROM:-0400
TZOFFSETTO:-0500
TZNAME:EST
DTSTART:20161106T060000
END:STANDARD
BEGIN:DAYLIGHT
TZOFFSETFROM:-0500
TZOFFSETTO:-0400
TZNAME:EDT
DTSTART:20170312T070000
END:DAYLIGHT
BEGIN:STANDARD
TZOFFSETFROM:-0400
TZOFFSETTO:-0500
TZNAME:EST
DTSTART:20171105T060000
END:STANDARD
BEGIN:DAYLIGHT
TZOFFSETFROM:-0500
TZOFFSETTO:-0400
TZNAME:EDT
DTSTART:20180311T070000
END:DAYLIGHT
BEGIN:STANDARD
TZOFFSETFROM:-0400
TZOFFSETTO:-0500
TZNAME:EST
DTSTART:20181104T060000
END:STANDARD
BEGIN:DAYLIGHT
TZOFFSETFROM:-0500
TZOFFSETTO:-0400
TZNAME:EDT
DTSTART:20190310T070000
END:DAYLIGHT
BEGIN:STANDARD
TZOFFSETFROM:-0400
TZOFFSETTO:-0500
TZNAME:EST
DTSTART:20191103T060000
END:STANDARD
BEGIN:DAYLIGHT
TZOFFSETFROM:-0500
TZOFFSETTO:-0400
TZNAME:EDT
DTSTART:20200308T070000
END:DAYLIGHT
BEGIN:STANDARD
TZOFFSETFROM:-0400
TZOFFSETTO:-0500
TZNAME:EST
DTSTART:20201101T060000
END:STANDARD
BEGIN:DAYLIGHT
TZOFFSETFROM:-0500
TZOFFSETTO:-0400
TZNAME:EDT
DTSTART:20210314T070000
END:DAYLIGHT
BEGIN:STANDARD
TZOFFSETFROM:-0400
TZOFFSETTO:-0500
TZNAME:EST
DTSTART:20211107T060000
END:STANDARD
BEGIN:DAYLIGHT
TZOFFSETFROM:-0500
TZOFFSETTO:-0400
TZNAME:EDT
DTSTART:20220313T070000
END:DAYLIGHT
BEGIN:STANDARD
TZOFFSETFROM:-0400
TZOFFSETTO:-0500
TZNAME:EST
DTSTART:20221106T060000
END:STANDARD
END:VTIMEZONE
BEGIN:VEVENT
DTSTART;TZID=America/Thunder_Bay:20220502T070000
DTEND;TZID=America/Thunder_Bay:20220502T160000
DTSTAMP:20260420T062316
CREATED:20240922T175713Z
LAST-MODIFIED:20240922T175713Z
UID:23944-1651474800-1651507200@tbmra.org
SUMMARY:17th Eid-al-Fitr
DESCRIPTION:Thunder Bay Masjid Presents:17th Eid-al-Fitr\nFestival 2022\nDate May 2\, 2022\nLocation: Fort William Curling Club 218 Vickers St N\, Thunder Bay\, ON P7C 6A3\n7:00 AM Doors Open\n7:30 AM Takbeerat Start\n8:00 AM Prayer Starts\n9:00 AM Desserts & Coffee\n11:00 AM Festival Begins\nFinalized date will be announced on the Thunder Bay Masjid website & Facebook page based on the moon sighting\nCotton Candy\, Popcorn\, BBQ\, Bouncy Castle\, & More!
URL:https://tbmra.org/event/17th-eid-al-fitr/
LOCATION:Fort William Curling Club\, 218 Vickers St N\, Thunder Bay\, Ontario\, P7C 6A3\, Canada
CATEGORIES:Eid-ul-Fitr
END:VEVENT
BEGIN:VEVENT
DTSTART;TZID=America/Thunder_Bay:20210512T081500
DTEND;TZID=America/Thunder_Bay:20210512T133000
DTSTAMP:20260420T062316
CREATED:20240922T175629Z
LAST-MODIFIED:20240922T175629Z
UID:23943-1620807300-1620826200@tbmra.org
SUMMARY:Eid Online
DESCRIPTION:The Thunder Bay Masjid will host Eid online at 8:15 am. Please privately message for Zoom link.  We will also host an Eid Drive thru to give out sweets for the entire community from 12 pm -1:30 pm at the Masjid.RE: Eid Prayers at home Due to pandemic guidelines\, many of us won’t be able to pray Eid at the Masjid. Here are some guidelines on how to pray at home.  Eid prayer can be prayed at home (Hanbali\, Maliki\, Shaafie’ & some Hanafi scholars).  Some Hanafi scholars have said 4 rakaʾāt of ṣalāt al-ḍuḥā or ṣalāt al-ishrāq should be prayed instead of the Eid prayer.  In short\, seven extra Takbeers in the first raka’ before surah al-Fatiha and five extra  takbeers in the second raka’ before surah al-Fatiha.  The sermon after the prayer is not necessary. Connect with Imam if you have any questions. \nGoodie bags & sweets distribution will be from 12:00 pm -1:30 today In light of the present COVID-19 virus situation and to protect you and to protect the volunteers\, you are asked to observe the following:  * No walk-ins please * Volunteers will be out to hand out bags to you in your Vehicle. * Bags are prepared please don’t ask for substitute. * Please stay in your vehicle at all times. * Exit mosque parking lot as soon as possible\, please do not gather.
URL:https://tbmra.org/event/eid-online/
LOCATION:Zoom\, Zoom.com\, Thunder Bay\, Ontario\, Canada
CATEGORIES:Eid-ul-Fitr
END:VEVENT
BEGIN:VEVENT
DTSTART;TZID=America/Thunder_Bay:20190605T070000
DTEND;TZID=America/Thunder_Bay:20190605T150000
DTSTAMP:20260420T062316
CREATED:20240922T175530Z
LAST-MODIFIED:20240922T175530Z
UID:23928-1559718000-1559746800@tbmra.org
SUMMARY:Thunder Bay’s 11th Eid Fest
DESCRIPTION:Eid Festival CLE Heritage Building 425 Northern Ave. Friday September 1st Takbeerat: 8:00 am Eid Prayer: 8:30 am Sweets | Jumping Castles | Lunch Contact: thunderbaymasjid@gmail.com
URL:https://tbmra.org/event/thunder-bays-11th-eid-fest/
LOCATION:Ontario
CATEGORIES:Eid-ul-Fitr
END:VEVENT
BEGIN:VEVENT
DTSTART;TZID=America/Thunder_Bay:20180615T074500
DTEND;TZID=America/Thunder_Bay:20180615T160000
DTSTAMP:20260420T062316
CREATED:20240922T175516Z
LAST-MODIFIED:20240922T175516Z
UID:23923-1529048700-1529078400@tbmra.org
SUMMARY:Thunder Bay’s 9th Eid Fest
DESCRIPTION:EID MUBARAK!Thunder Bay’s 9th Eid Fest\nDoors Open: 7:45a\nTakbeerat: 8:00a\nEid Salah: 8:30a\nFestival: 9:00a to 4:00p\nCLE Grounds\, Coliseum Building 425 Northern Ave\nJoin us for the eid celebration as we celebrate eid with prayers\, food\, games and gifts!
URL:https://tbmra.org/event/thunder-bays-9th-eid-fest/
LOCATION:Ontario
CATEGORIES:Eid-ul-Fitr
END:VEVENT
BEGIN:VEVENT
DTSTART;VALUE=DATE:20170625
DTEND;VALUE=DATE:20170627
DTSTAMP:20260420T062316
CREATED:20240922T175257Z
LAST-MODIFIED:20240922T175257Z
UID:23882-1498348800-1498521599@tbmra.org
SUMMARY:Eid Prayer
DESCRIPTION:Welcome to the 7th annual Thunder Eid festival\, EID MUBARAK! Celebrate Eid-ul-Fitr with your Thunder Bay family.Date: June 25th/26th\, 2017\nDoors open at: 7:45 AM\nTakbeerat: 8:00 AM\nPrayer: 8:30 AM\nFestival Time: 10:00 AM – 4:30 PM\nLocation: The Coliseum building @ the CLE\n425 Northern Ave\, Thunder Bay\, ON P7C 2V7\nSweets & BBQ\nBouncing Castles\nFace Painting
URL:https://tbmra.org/event/eid-prayer/
LOCATION:Ontario
CATEGORIES:Eid-ul-Fitr
END:VEVENT
BEGIN:VEVENT
DTSTART;TZID=America/Thunder_Bay:20160706T080000
DTEND;TZID=America/Thunder_Bay:20160706T170000
DTSTAMP:20260420T062316
CREATED:20240922T175345Z
LAST-MODIFIED:20240922T175345Z
UID:23899-1467792000-1467824400@tbmra.org
SUMMARY:Eid-al-Fitr 2016 5th Annual Festival
DESCRIPTION:EID MUBARAK\nEid-al-Fitr 2016\nFifth Annual Eid Festival!\nDoors Open/Takberat 8:00 am\nEid Prayer: 8:30 am\nFestival Time: 10am-5pm\nAT the CLE Heritage Building 425 Northern Ave\nFUN FOR ALL\nJumpy Castles\, Petting Zoo\, Pony Rides\, Clowns\, Hinna\, Face Painting & More…
URL:https://tbmra.org/event/eid-al-fitr-2016-5th-annual-festival/
LOCATION:CLE Heritage Building\, 425 Northern Ave Canadian Lakehead Exhibition\, Thunder Bay\, Ontario\, P7C 2V7\, Canada
CATEGORIES:Eid-ul-Fitr
END:VEVENT
BEGIN:VEVENT
DTSTART;TZID=America/Thunder_Bay:20140728T083000
DTEND;TZID=America/Thunder_Bay:20140728T170000
DTSTAMP:20260420T062316
CREATED:20240922T175315Z
LAST-MODIFIED:20240922T180319Z
UID:23890-1406536200-1406566800@tbmra.org
SUMMARY:Tbay’s First Annual Eid Fest of its kind
DESCRIPTION:MCI Presents Tbay’s First Annual Eid Fest of its kind. Eid Al-Fitr 2014.Doors Open: 8:30 AM\nPrayer: 9:00 AM\nFestival: 10:00 AM – 5:00 PM\nHalf Price Tickets\n@ The Aerosports\nTrampoline Parks\nAddress: 141 Northern ave CLE Grounds\nLow Price Halal food\nSponsors: Saudi Club. Thunder Bay Muslim Association\, TBay Masjid. \nPlease fill up the waiver online to reduce line up: http://goo.gl/7kXNtR
URL:https://tbmra.org/event/tbays-first-annual-eid-fest-of-its-kind/
LOCATION:The Aerosports Trampoline Park\, 141 Northern Ave Canadian Lakehead Exhibition\, Thunder Bay\, Ontario\, P7C 2V7\, Canada
CATEGORIES:Eid-ul-Fitr
ATTACH;FMTTYPE=image/jpeg:https://tbmra.org/wp-content/uploads/2023/01/10506695_839667352719797_4358931816261199812_o.jpg
END:VEVENT
END:VCALENDAR