BEGIN:VCALENDAR
VERSION:2.0
PRODID:-//Thunder Bay Masjid - ECPv6.13.0//NONSGML v1.0//EN
CALSCALE:GREGORIAN
METHOD:PUBLISH
X-ORIGINAL-URL:https://tbmra.org
X-WR-CALDESC:Events for Thunder Bay Masjid
REFRESH-INTERVAL;VALUE=DURATION:PT1H
X-Robots-Tag:noindex
X-PUBLISHED-TTL:PT1H
BEGIN:VTIMEZONE
TZID:America/Thunder_Bay
BEGIN:DAYLIGHT
TZOFFSETFROM:-0500
TZOFFSETTO:-0400
TZNAME:EDT
DTSTART:20160313T070000
END:DAYLIGHT
BEGIN:STANDARD
TZOFFSETFROM:-0400
TZOFFSETTO:-0500
TZNAME:EST
DTSTART:20161106T060000
END:STANDARD
BEGIN:DAYLIGHT
TZOFFSETFROM:-0500
TZOFFSETTO:-0400
TZNAME:EDT
DTSTART:20170312T070000
END:DAYLIGHT
BEGIN:STANDARD
TZOFFSETFROM:-0400
TZOFFSETTO:-0500
TZNAME:EST
DTSTART:20171105T060000
END:STANDARD
BEGIN:DAYLIGHT
TZOFFSETFROM:-0500
TZOFFSETTO:-0400
TZNAME:EDT
DTSTART:20180311T070000
END:DAYLIGHT
BEGIN:STANDARD
TZOFFSETFROM:-0400
TZOFFSETTO:-0500
TZNAME:EST
DTSTART:20181104T060000
END:STANDARD
BEGIN:DAYLIGHT
TZOFFSETFROM:-0500
TZOFFSETTO:-0400
TZNAME:EDT
DTSTART:20190310T070000
END:DAYLIGHT
BEGIN:STANDARD
TZOFFSETFROM:-0400
TZOFFSETTO:-0500
TZNAME:EST
DTSTART:20191103T060000
END:STANDARD
BEGIN:DAYLIGHT
TZOFFSETFROM:-0500
TZOFFSETTO:-0400
TZNAME:EDT
DTSTART:20200308T070000
END:DAYLIGHT
BEGIN:STANDARD
TZOFFSETFROM:-0400
TZOFFSETTO:-0500
TZNAME:EST
DTSTART:20201101T060000
END:STANDARD
BEGIN:DAYLIGHT
TZOFFSETFROM:-0500
TZOFFSETTO:-0400
TZNAME:EDT
DTSTART:20210314T070000
END:DAYLIGHT
BEGIN:STANDARD
TZOFFSETFROM:-0400
TZOFFSETTO:-0500
TZNAME:EST
DTSTART:20211107T060000
END:STANDARD
BEGIN:DAYLIGHT
TZOFFSETFROM:-0500
TZOFFSETTO:-0400
TZNAME:EDT
DTSTART:20220313T070000
END:DAYLIGHT
BEGIN:STANDARD
TZOFFSETFROM:-0400
TZOFFSETTO:-0500
TZNAME:EST
DTSTART:20221106T060000
END:STANDARD
BEGIN:DAYLIGHT
TZOFFSETFROM:-0500
TZOFFSETTO:-0400
TZNAME:EDT
DTSTART:20230312T070000
END:DAYLIGHT
BEGIN:STANDARD
TZOFFSETFROM:-0400
TZOFFSETTO:-0500
TZNAME:EST
DTSTART:20231105T060000
END:STANDARD
BEGIN:DAYLIGHT
TZOFFSETFROM:-0500
TZOFFSETTO:-0400
TZNAME:EDT
DTSTART:20240310T070000
END:DAYLIGHT
BEGIN:STANDARD
TZOFFSETFROM:-0400
TZOFFSETTO:-0500
TZNAME:EST
DTSTART:20241103T060000
END:STANDARD
BEGIN:DAYLIGHT
TZOFFSETFROM:-0500
TZOFFSETTO:-0400
TZNAME:EDT
DTSTART:20250309T070000
END:DAYLIGHT
BEGIN:STANDARD
TZOFFSETFROM:-0400
TZOFFSETTO:-0500
TZNAME:EST
DTSTART:20251102T060000
END:STANDARD
END:VTIMEZONE
BEGIN:VEVENT
DTSTART;TZID=America/Thunder_Bay:20250329T080000
DTEND;TZID=America/Thunder_Bay:20250329T233000
DTSTAMP:20260421T063046
CREATED:20250326T182439Z
LAST-MODIFIED:20250329T223211Z
UID:25464-1743235200-1743291000@tbmra.org
SUMMARY:Iftar at Thunder Bay Masjid (5th Event)
DESCRIPTION:Join us for a daily Iftar at Thunder Bay Masjid throughout the holy month of Ramadan. Enjoy a warm meal with the community for just $5 per person. Secure your spot by booking your meal in advance and getting your ticket. \nTime: Maghrib Prayer Time \nLocation: Thunder Bay Masjid\, Thunder Bay\, Canada \nPrice: $5 per meal \nTicketing: \n\nBook your meal online in advance\nLimited seats available each day\n\nHow to Book: \n\nClick the “Get Ticket” button on the event page\nComplete the payment\nReceive your ticket via email\n\nNotes: \n\nPlease arrive 10 minutes before Maghrib\nTicket booking will close a day prior to each ticket.
URL:https://tbmra.org/event/iftar-at-thunder-bay-masjid-5th-event/
LOCATION:Thunder Bay Masjid\, 591 John Street\, Thunder Bay\, Ontario\, P7B 1Y8\, Canada
CATEGORIES:Breaking Bread
ATTACH;FMTTYPE=image/jpeg:https://tbmra.org/wp-content/uploads/2025/02/c6d9a404-5c24-4588-939f-df48765712d7.jpg
END:VEVENT
BEGIN:VEVENT
DTSTART;VALUE=DATE:20250322
DTEND;VALUE=DATE:20250329
DTSTAMP:20260421T063046
CREATED:20250320T094516Z
LAST-MODIFIED:20250322T042749Z
UID:25174-1742601600-1743206399@tbmra.org
SUMMARY:Iftar at Thunder Bay Masjid (4th Week)
DESCRIPTION:Join us for a daily Iftar at Thunder Bay Masjid throughout the holy month of Ramadan. Enjoy a warm meal with the community for just $5 per person. Secure your spot by booking your meal in advance and getting your ticket. \nTime: Maghrib Prayer Time \nLocation: Thunder Bay Masjid\, Thunder Bay\, Canada \nPrice: $5 per meal \nTicketing: \n\nBook your meal online in advance\nLimited seats available each day\n\nHow to Book: \n\nClick the “Get Ticket” button on the event page\nComplete the payment\nReceive your ticket via email\n\nNotes: \n\nPlease arrive 10 minutes before Maghrib\nTicket booking will close on Friday\, March 21\, at 09:00 PM.
URL:https://tbmra.org/event/iftar-at-thunder-bay-masjid-4th-week/
LOCATION:Thunder Bay Masjid\, 591 John Street\, Thunder Bay\, Ontario\, P7B 1Y8\, Canada
CATEGORIES:Breaking Bread
ATTACH;FMTTYPE=image/jpeg:https://tbmra.org/wp-content/uploads/2025/02/c6d9a404-5c24-4588-939f-df48765712d7.jpg
END:VEVENT
BEGIN:VEVENT
DTSTART;VALUE=DATE:20250315
DTEND;VALUE=DATE:20250322
DTSTAMP:20260421T063046
CREATED:20250312T012047Z
LAST-MODIFIED:20250320T095148Z
UID:24951-1741996800-1742601599@tbmra.org
SUMMARY:Iftar at Thunder Bay Masjid (3rd Week)
DESCRIPTION:Join us for a daily Iftar at Thunder Bay Masjid throughout the holy month of Ramadan. Enjoy a warm meal with the community for just $5 per person. Secure your spot by booking your meal in advance and getting your ticket. \nTime: Maghrib Prayer Time \nLocation: Thunder Bay Masjid\, Thunder Bay\, Canada \nPrice: $5 per meal \nTicketing: \n\nBook your meal online in advance\nLimited seats available each day\n\nHow to Book: \n\nClick the “Get Ticket” button on the event page\nComplete the payment\nReceive your ticket via email\n\nNotes: \n\nPlease arrive 10 minutes before Maghrib\nTicket booking will close on Friday\, March 14\, at 09:00 PM.
URL:https://tbmra.org/event/iftar-at-thunder-bay-masjid-3rd-week/
LOCATION:Thunder Bay Masjid\, 591 John Street\, Thunder Bay\, Ontario\, P7B 1Y8\, Canada
CATEGORIES:Breaking Bread
ATTACH;FMTTYPE=image/jpeg:https://tbmra.org/wp-content/uploads/2025/02/c6d9a404-5c24-4588-939f-df48765712d7.jpg
END:VEVENT
BEGIN:VEVENT
DTSTART;VALUE=DATE:20250308
DTEND;VALUE=DATE:20250315
DTSTAMP:20260421T063046
CREATED:20250304T202420Z
LAST-MODIFIED:20250311T041743Z
UID:24649-1741392000-1741996799@tbmra.org
SUMMARY:Iftar at Thunder Bay Masjid (2nd Week)
DESCRIPTION:Join us for a daily Iftar at Thunder Bay Masjid throughout the holy month of Ramadan. Enjoy a warm meal with the community for just $5 per person. Secure your spot by booking your meal in advance and getting your ticket. \nTime: Maghrib Prayer Time \nLocation: Thunder Bay Masjid\, Thunder Bay\, Canada \nPrice: $5 per meal \nTicketing: \n\nBook your meal online in advance\nLimited seats available each day\n\nHow to Book: \n\nClick the “Get Ticket” button on the event page\nComplete the payment\nReceive your ticket via email\n\nNotes: \n\nPlease arrive 10 minutes before Maghrib\nTicket booking will close on Friday\, March 7\, at 09:00 PM.
URL:https://tbmra.org/event/iftar-at-thunder-bay-masjid-2/
LOCATION:Thunder Bay Masjid\, 591 John Street\, Thunder Bay\, Ontario\, P7B 1Y8\, Canada
CATEGORIES:Breaking Bread
ATTACH;FMTTYPE=image/jpeg:https://tbmra.org/wp-content/uploads/2025/02/c6d9a404-5c24-4588-939f-df48765712d7.jpg
END:VEVENT
BEGIN:VEVENT
DTSTART;VALUE=DATE:20250301
DTEND;VALUE=DATE:20250308
DTSTAMP:20260421T063046
CREATED:20250226T144745Z
LAST-MODIFIED:20250307T165330Z
UID:24428-1740787200-1741391999@tbmra.org
SUMMARY:Iftar at Thunder Bay Masjid (1st Week)
DESCRIPTION:Join us for a daily Iftar at Thunder Bay Masjid throughout the holy month of Ramadan. Enjoy a warm meal with the community for just $5 per person. Secure your spot by booking your meal in advance and getting your ticket. \nTime: Maghrib Prayer Time \nLocation: Thunder Bay Masjid\, Thunder Bay\, Canada \nPrice: $5 per meal \nTicketing: \n\nBook your meal online in advance\nLimited seats available each day\n\nHow to Book: \n\nClick the “Get Ticket” button on the event page\nComplete the payment\nReceive your ticket via email\n\nNotes: \n\nPlease arrive 10 minutes before Maghrib\nTicket booking will close on Saturday\, March 1\, at 11:30 PM.
URL:https://tbmra.org/event/iftar-at-thunder-bay-masjid/
LOCATION:Thunder Bay Masjid\, 591 John Street\, Thunder Bay\, Ontario\, P7B 1Y8\, Canada
CATEGORIES:Breaking Bread
ATTACH;FMTTYPE=image/jpeg:https://tbmra.org/wp-content/uploads/2025/02/c6d9a404-5c24-4588-939f-df48765712d7.jpg
END:VEVENT
BEGIN:VEVENT
DTSTART;TZID=America/Thunder_Bay:20220416T000000
DTEND;TZID=America/Thunder_Bay:20220416T000000
DTSTAMP:20260421T063046
CREATED:20240922T175743Z
LAST-MODIFIED:20240922T175743Z
UID:23954-1650067200-1650067200@tbmra.org
SUMMARY:Sisters’ Iftar and Bazar Sale
DESCRIPTION:Sisters’ Iftar and Bazar SalePlease register using the event link
URL:https://tbmra.org/event/sisters-iftar-and-bazar-sale/
LOCATION:Thunder Bay Masjid\, 591 John Street\, Thunder Bay\, Ontario\, P7B 1Y8\, Canada
CATEGORIES:Breaking Bread
END:VEVENT
BEGIN:VEVENT
DTSTART;TZID=America/Thunder_Bay:20190517T203000
DTEND;TZID=America/Thunder_Bay:20190517T223000
DTSTAMP:20260421T063046
CREATED:20240922T175300Z
LAST-MODIFIED:20240922T175300Z
UID:23887-1558125000-1558132200@tbmra.org
SUMMARY:6th Annual Breaking Bread
DESCRIPTION:Join the Thunder Bay Muslim Community as we come together to break bread\, share laughs\, and enjoy the joyous experience of fasting in Ramadan. Location: Lakehead University Main Cafeteria\, 955 Oliver Road Doors Open – 8:30 PM Program Starts – 9:00 PM Registration is required: https://tinyurl.com/breakingbread6 Community Members: $5 Guests & Children: Free!
URL:https://tbmra.org/event/6th-annual-breaking-bread/
LOCATION:Lakehead University Main Cafeteria\, 955 Oliver Road Agora Building\, Thunder Bay\, Ontario\, P7B 5E1\, Canada
CATEGORIES:Breaking Bread
END:VEVENT
BEGIN:VEVENT
DTSTART;TZID=America/Thunder_Bay:20180525T203000
DTEND;TZID=America/Thunder_Bay:20180525T233000
DTSTAMP:20260421T063046
CREATED:20240922T175515Z
LAST-MODIFIED:20240922T175515Z
UID:23921-1527280200-1527291000@tbmra.org
SUMMARY:5th Annual Breaking Bread
DESCRIPTION:Join us with your family and friends for our 5th annual Breaking Bread event.  Breaking Bread is an opportunity for Thunder Bay’s community to participate in the rich cultural experience of Ramadan. It is a chance to enjoy good food and great company\, all while reflecting on the very real issues of food and water scarcity around the world.  For more information\, contact:  thunderbay.mci@outlook.com  Doors open: 8:45 pm  Program Starts: 9:00 pm   **RSVP by May 23rd to reserve your meal tickets**
URL:https://tbmra.org/event/5th-annual-breaking-bread/
LOCATION:Ryan Hall Cafeteria\, Confederation College\, 1450 Nakina Drive Shuniah Building Floor 2\, Thunder Bay\, Ontario\, P7C 4W1\, Canada
CATEGORIES:Breaking Bread
END:VEVENT
BEGIN:VEVENT
DTSTART;TZID=America/Thunder_Bay:20170610T211500
DTEND;TZID=America/Thunder_Bay:20170610T223000
DTSTAMP:20260421T063046
CREATED:20240922T175257Z
LAST-MODIFIED:20240922T175257Z
UID:23881-1497129300-1497133800@tbmra.org
SUMMARY:4th Annual Breaking Bread
DESCRIPTION:Join us for an evening of food have your taste buds excited with our favourite delicaies in our holy month of Ramdan. Admission is free for the event. However\, we request all attendees to please RSVP before Monday June 5th by filling out the form in the link below. http://bit.ly/2r0rrP5
URL:https://tbmra.org/event/4th-annual-breaking-bread/
LOCATION:Lakehead University Main Cafeteria\, 955 Oliver Road Agora Building\, Thunder Bay\, Ontario\, P7B 5E1\, Canada
CATEGORIES:Breaking Bread
END:VEVENT
BEGIN:VEVENT
DTSTART;TZID=America/Thunder_Bay:20160610T000000
DTEND;TZID=America/Thunder_Bay:20160610T000000
DTSTAMP:20260421T063046
CREATED:20240922T175330Z
LAST-MODIFIED:20240922T175330Z
UID:23896-1465516800-1465516800@tbmra.org
SUMMARY:Ramadan and Social Justice Celebration
DESCRIPTION:Thunder Bay’s Muslim CommunityPress Release June 9\, 2016\nCelebrating Ramadan & Social Justice in Thunder Bay:\nGuest Imam and Federal Chaplain will be the Keynote Speaker\nThe Muslim community in Thunder Bay is hosting its Breaking Bread event on Friday\, June 10 at Lakehead University. This year’s event will feature a keynote speech by renowned interfaith activist and Federal Chaplain Imam Habeeb Alli.\nReflecting on this year’s theme\, Imam Alli notes that “Ramadan is a special month for Canadian Muslims where we focus on our social justice towards the underprivileged in our society… How could one be hungry and thirsty for 18 hours everyday for a month and not empathize with the homeless and the refugees of the world?”
URL:https://tbmra.org/event/ramadan-and-social-justice-celebration/
LOCATION:Lakehead University\, 955 Oliver Road\, Thunder Bay\, Ontario\, P7B 5E1\, Canada
CATEGORIES:Breaking Bread
END:VEVENT
END:VCALENDAR